BEGIN:VCALENDAR
VERSION:2.0
PRODID:-//https://mail.troop11stamford.org//NONSGML kigkonsult.se iCalcreator 2.41.71//
CALSCALE:GREGORIAN
METHOD:PUBLISH
UID:63393038-3035-4461-b738-396433613361
X-WR-CALNAME:JCal Pro Calendar
X-WR-CALDESC:Your online events calendar
X-WR-TIMEZONE:America/New_York
BEGIN:VTIMEZONE
TZID:America/New_York
TZUNTIL:20271107T060000Z
BEGIN:STANDARD
TZNAME:EST
DTSTART:20251102T020000
TZOFFSETFROM:-0400
TZOFFSETTO:-0500
RDATE:20261101T020000
END:STANDARD
BEGIN:DAYLIGHT
TZNAME:EDT
DTSTART:20260308T020000
TZOFFSETFROM:-0500
TZOFFSETTO:-0400
RDATE:20270314T020000
END:DAYLIGHT
END:VTIMEZONE
BEGIN:VEVENT
UID:20230818T193000EDT-9719waHVAg@http://www.troop11stamford.org/
DTSTAMP:20260424T134428Z
CATEGORIES:Uncategorised
DESCRIPTION:<p><a href='https://troop11stamford.trooptrack.com/plan/events/
 1614504'>https://troop11stamford.trooptrack.com/plan/events/1614504</a></p
 >
DTSTART;TZID=America/New_York:20230818T193000
DTEND;TZID=America/New_York:20230818T203000
SUMMARY:Committee Meeting
URL:https://mail.troop11stamford.org/index.php/troop-calendar/11-uncategori
 sed/224-committee-meeting
X-ALT-DESC;FMTTYPE=TEXT/HTML:<p><a href='https://troop11stamford.trooptrack
 .com/plan/events/1614504'>https://troop11stamford.trooptrack.com/plan/even
 ts/1614504</a></p>
END:VEVENT
END:VCALENDAR
