BEGIN:VCALENDAR
VERSION:2.0
PRODID:-//https://mail.troop11stamford.org//NONSGML kigkonsult.se iCalcreator 2.41.71//
CALSCALE:GREGORIAN
METHOD:PUBLISH
UID:34353032-3238-4765-a466-666161626235
X-WR-CALNAME:JCal Pro Calendar
X-WR-CALDESC:Your online events calendar
X-WR-TIMEZONE:America/New_York
BEGIN:VTIMEZONE
TZID:America/New_York
TZUNTIL:20271107T060000Z
BEGIN:STANDARD
TZNAME:EST
DTSTART:20251102T020000
TZOFFSETFROM:-0400
TZOFFSETTO:-0500
RDATE:20261101T020000
END:STANDARD
BEGIN:DAYLIGHT
TZNAME:EDT
DTSTART:20260308T020000
TZOFFSETFROM:-0500
TZOFFSETTO:-0400
RDATE:20270314T020000
END:DAYLIGHT
END:VTIMEZONE
BEGIN:VEVENT
UID:20220417T160000EDT-5993ltU2Ib@https://troop11stamford.org/
DTSTAMP:20260422T093554Z
CATEGORIES:Holidays
DTSTART;TZID=America/New_York:20220417T000000
DTEND;TZID=America/New_York:20220417T235959
SUMMARY:Easter Sunday
URL:https://mail.troop11stamford.org/index.php/troop-calendar/14-holidays/9
 0-easter-sunday
END:VEVENT
BEGIN:VEVENT
UID:20220418T190000EDT-8684V5kJNG@https://troop11stamford.org/
DTSTAMP:20260422T093554Z
CATEGORIES:Meetings
DTSTART;TZID=America/New_York:20220418T190000
DTEND;TZID=America/New_York:20220418T203000
SUMMARY:Troop Meeting
URL:https://mail.troop11stamford.org/index.php/troop-calendar/12-meetings/9
 2-troop-meeting-2
END:VEVENT
BEGIN:VEVENT
UID:20220423T080000EDT-4411zUCUiN@https://troop11stamford.org/
DTSTAMP:20260422T093554Z
CATEGORIES:Outings
DESCRIPTION:<p>Day trip to Bridgeport</p>
DTSTART;TZID=America/New_York:20220423T080000
DTEND;TZID=America/New_York:20220424T123000
SUMMARY:Appalachian Trail Hike
URL:https://mail.troop11stamford.org/index.php/troop-calendar/13-outings/88
 -appalachian-trail-hike
X-ALT-DESC;FMTTYPE=TEXT/HTML:<p>Day trip to Bridgeport</p>
END:VEVENT
END:VCALENDAR
